BEGIN:VCALENDAR
VERSION:2.0
PRODID:icalendar-ruby
CALSCALE:GREGORIAN
METHOD:PUBLISH
BEGIN:VEVENT
DTSTAMP:20260423T205053Z
UID:817-934154@bc.anglican.ca
DTSTART;VALUE=DATE:20260604
DTEND;VALUE=DATE:20260604
CLASS:PUBLIC
CREATED:20260420T135352
DESCRIPTION:Parish Administrators Day will take place on June 4\, 2026 at t
 he Christ Church Cathedral.\nWe will gather at 10am with the workshop runn
 ing from 10:30am-12:30pm. Lunch will be provided.\nAn agenda will be avail
 able shortly. If you are a parish administrator or assist with administrat
 ion for your parish (such as website management etc.) you are most welcome
  to attend. \nThe deadline to register is May 9\, 2026. You can do so by 
 filling in the form\, found HERE.\nThe Agenda will be available from here 
 in mid-May.
LAST-MODIFIED:20260420T135352
LOCATION:
SUMMARY:Parish Administrators Day
URL;VALUE=URI:https://www.bc.anglican.ca/events/parish-administrators-day--
 817/2026-06-04
ATTACH;FILENAME=Heading (7).png;FMTTYPE=image/png:https://dq5pwpg1q8ru0.clo
 udfront.net/2025/05/23/15/13/01/fe8df0dc-bb2f-4583-a8d6-173d04cfefcb/Headi
 ng%20(7).png
END:VEVENT
END:VCALENDAR
