BEGIN:VCALENDAR
VERSION:2.0
PRODID:icalendar-ruby
CALSCALE:GREGORIAN
METHOD:PUBLISH
BEGIN:VEVENT
DTSTAMP:20260423T223334Z
UID:870-939710@bc.anglican.ca
DTSTART:20260522T020000Z
DTEND:20260522T033000Z
CLASS:PUBLIC
CREATED:20260422T115856
DESCRIPTION:Presented by Dr. Siobhan Garrigan.\nTurn on the television and 
 you are bombarded with programs on finding\, designing\,building\, buying\
 , restoring or furnishing your home. Meanwhile\, the earth is radically po
 lluted and millions of people worldwide are refugees. What is “home” i
 n Christian theology and how might a theology of home point to a way out o
 f the twin poles of consumerism and homelessness in the contemporary west?
 \nDr. Garrigan will help us reframe the way we think about "home" and ther
 efore our unhoused neighbours. She will invite us to imagine home as "part
 icipating instead of possessing" in every sphere of life\, in pursuit of a
  theology of home capable of preventing homelessness and not merely minist
 ering to people experiencing it.\nThis event is free for all to attend.
LAST-MODIFIED:20260422T115856
LOCATION:Christ Church Cathedral
SUMMARY:2026 John Albert Hall Lecture
URL;VALUE=URI:https://www.bc.anglican.ca/events/2026-john-albert-hall-lectu
 re/2026-05-21
ATTACH;FILENAME=jah.png;FMTTYPE=image/png:https://dq5pwpg1q8ru0.cloudfront.
 net/2026/04/22/18/58/02/9549d4d0-f92b-410b-8a4a-b512069dd441/jah.png
END:VEVENT
END:VCALENDAR
